Workbook

Sheet 省エネ計算
B1: 大規模感染リスクを低減するための高機能換気設備の導入支援事業 | H1: 44291 | J1: ※CO2削減量は補助事業実施年度の翌年度1年間（4月～3月）の1年間の報告義務があります | Q1: 変更履歴
B2: 高機能換気設備 省エネ計算シート | J2: 本シートのCO2削減量は特定のAPF条件で計算した値です | Q2: 44286 | R2: 公開
J3: ※必要事項を入力し、左側の1～3ページまでを印刷して提出してください | Q3: 44287 | R3: ③照明設備による電力削減量の参照を修正
F4: 要入力 | G4: プルダウン | H4: 自動計算 | J4: ※換気、空調設備の入力は必須、照明は計算対象にする場合のみ記入 | Q4: 44288 | R4: 施設全体のCO2削減率の参照を修正。新設時に全熱回収分が算定されない点を修正
B5: 申請者名： | J5: ※本シートを作成するにあたって、下記の資料が必要になります | Q5: 44291 | R5: ２．（１）換気設備入力欄、（２）空調設備入力欄の説明を、「この表に入りきらない場合は、この表を使わず別シート（機器仕様入力書）をご利用下さい」に修正
J6: ・令和2年度または元年度の月別電力使用量及び電気料金（必要に応じガスや燃料） | R6: 102行の省エネ判定で新築時の表示不具合を修正。同じく新築時の削減量合計を算出する計算式を修正
J7: ・旧設備の仕様書（ない場合は銘板写真等） | Q7: 44293 | R7: 機器仕様入力書の | S7: ①列の表示桁数を修正
A8: １．現状電気使用量の入力 | J8: ・新設備の仕様書
B9: （１）電気使用量
C11: 43922 | D11: 5月 | E11: 6月 | F11: 7月 | G11: 8月 | H11: 9月 | J11: 「ランニングコスト計算シート」に電力使用量と電気料金を入力してください
B12: 電気使用量[kWh] | C12: =IF(ランニングコスト計算書!C16="","",ランニングコスト計算書!C16) | D12: =IF(ランニングコスト計算書!D16="","",ランニングコスト計算書!D16) | E12: =IF(ランニングコスト計算書!E16="","",ランニングコスト計算書!E16) | F12: =IF(ランニングコスト計算書!F16="","",ランニングコスト計算書!F16) | G12: =IF(ランニングコスト計算書!G16="","",ランニングコスト計算書!G16) | H12: =IF(ランニングコスト計算書!H16="","",ランニングコスト計算書!H16)
B14: 10月 | C14: 11月 | D14: 12月 | E14: 44197 | F14: 2月 | G14: 3月 | H14: 計
B15: =IF(ランニングコスト計算書!I16="","",ランニングコスト計算書!I16) | C15: =IF(ランニングコスト計算書!J16="","",ランニングコスト計算書!J16) | D15: =IF(ランニングコスト計算書!K16="","",ランニングコスト計算書!K16) | E15: =IF(ランニングコスト計算書!L16="","",ランニングコスト計算書!L16) | F15: =IF(ランニングコスト計算書!M16="","",ランニングコスト計算書!M16) | G15: =IF(ランニングコスト計算書!N16="","",ランニングコスト計算書!N16) | H15: =IF(ランニングコスト計算書!O16="","",ランニングコスト計算書!O16)
G16: CO2排出量（kg） | H16: =IF(H15="","",H15*$F$97) | J16: CO2排出量（kg）
B17: 電力料金単価： | C17: =IF(ランニングコスト計算書!D19="","",ランニングコスト計算書!D19) | D17: 円/kWh
B19: （２）対象となる施設や室に関する情報
B21: ①建物形態 | D21: 事務所 | E21: ※事務所ビル、店舗の区分については、右表から
B22: ②設備規模 | D22: 施設全体 | E22: 建物形態や利用形態が近い方を選択してください。
B23: ③既存改修・新築の区分 | D23: 既存改修
A25: ２．機器仕様の入力
B26: 各設備の仕様書から下記項目を入力してください
B28: （１）換気設備
B29: ①設備仕様の入力 更新前の旧設備と更新後の新設備の仕様を入力してください。 | J29: ※換気量は、ダクト等の損出を考慮した有効換気量を入力してください
B30: この表に入りきらない場合は、この表を使わず別シート（機器仕様入力書）をご利用下さい。
B31: 旧設備 | J31: 更新前の現在稼働している設備について記入してください。設備が一つの場合は②以降は入力不要
C32: ① | D32: ② | E32: ③ | F32: ④ | G32: ⑤ | H32: 計 | J32: 自然換気は入力しないでください
B33: 換気設備の種類 | C33: 機械換気（換気扇等） | D33: 機械換気（換気扇等） | E33: 機械換気（換気扇等） | F33: 機械換気（換気扇等） | G33: 機械換気（換気扇等） | J33: 新築は、旧設備に入力しないでください
B34: 型番 | J34: スケルトンは、旧設備がある場合、その設備仕様を入力してください
B35: 台数 | H35: =IF(機器仕様入力書!C7<>"",機器仕様入力書!C7,IF(SUM(C35:G35)=0,"",SUM(C35:G35))) | J35: 旧換気設備の換気量等が不明な場合は工事会社やメーカー等にお問い合わせください
B36: 換気量[㎥/h] | H36: =IF(機器仕様入力書!C8<>"",機器仕様入力書!C8,IF(SUMPRODUCT(C35:G35,C36:G36)=0,"",SUMPRODUCT(C35:G35,C36:G36))) | J36: 原則として「強」の値
B37: 消費電力[W] | H37: =IF(機器仕様入力書!C9<>"",機器仕様入力書!C9,IF(SUMPRODUCT(C35:G35,C37:G37)=0,"",SUMPRODUCT(C35:G35,C37:G37))) | J37: 原則として「強」の値
B38: 熱交換 冷房 効率[%] 暖房 | H38: =IF(機器仕様入力書!C10<>"",機器仕様入力書!C10,IF(ISERROR((SUMPRODUCT(C35:G35,C36:G36,C40:G40)*0.352+SUMPRODUCT(C35:G35,C36:G36,C41:G41)*0.658)/(SUMPRODUCT(C35:G35,C36:G36))),"",(SUMPRODUCT(C35:G35,C36:G36,C40:G40)*0.352+SUMPRODUCT(C35:G35,C36:G36,C41:G41)*0.658)/(SUMPRODUCT(C35:G35,C36:G36)))) | J38: 全熱交換器の場合は冷房時と暖房時のエンタルピ交換効率を入力。
J39: 顕熱交換器(温度交換率)の場合は冷房時のみに記載して下さい。回収量は0.4倍として計算されます
C40: =IF((C39="")+(C39=0),C38*0.4,C38) -> 0 | D40: =IF((D39="")+(D39=0),D38*0.4,D38) -> 0 | E40: =IF((E39="")+(E39=0),E38*0.4,E38) -> 0 | F40: =IF((F39="")+(F39=0),F38*0.4,F38) -> 0 | G40: =IF((G39="")+(G39=0),G38*0.4,G38) -> 0
C41: =IF((C39="")+(C39=0),C38*0.4,C39) -> 0 | D41: =IF((D39="")+(D39=0),D38*0.4,D39) -> 0 | E41: =IF((E39="")+(E39=0),E38*0.4,E39) -> 0 | F41: =IF((F39="")+(F39=0),F38*0.4,F39) -> 0 | G41: =IF((G39="")+(G39=0),G38*0.4,G39) -> 0
B42: *熱交換効率はエンタルビ効率を記載して下さい。温度交換効率(顕熱交換器)の場合は回収量が0.4倍になります。 | J42: （エンタルピ効率は非熱交換型換気扇（一般の換気扇）の場合は入力不要）
B44: 新設備
C45: ① | D45: ② | E45: ③ | F45: ④ | G45: ⑤ | H45: 計 | J45: 今回新たに更新・追加等する設備並びに、既存の換気扇を残し継続使用する旧設備の内容を入力してください
B46: 換気設備の種類 | C46: 機械換気（換気扇等） | D46: 全熱交換器 | E46: 全熱交換器 | F46: 全熱交換器 | G46: 全熱交換器 | J46: 既存の換気扇を残し、全熱交換器を追加する場合はこの表に旧設備の内容も入力してください
B47: 更新・増設・新設の区分 | C47: 新設 | D47: 更新 | E47: 更新 | F47: 更新 | G47: 更新 | J47: 旧設備を継続使用する場合は「継続」を選択して入力してください
...

Sheet 照明シート
A1: 照明改修の省エネ（CO2削減量）計算シート
H2: ※照明を計算対象にする場合、本シートをご利用ください
B3: 電力のCO2排出係数 | E3: 0.579 | F3: kgCO2/kWh | H3: ※足りない場合は行を挿入してください。新築の場合は更新前と更新後に同じ内容を入力してください
B5: N0 | C5: 場所 | D5: 器具台数 (台) | E5: 1日の 点灯時間 （ｈ/日） | F5: 年間 点灯日数 （日） | G5: 年間 点灯時間 （ｈ） | H5: 照明器具仕様 | J5: 機器消費電力 | L5: 機器消費電力量 | N5: CO2排出量 | P5: CO2削減量
H6: 更新前 | I6: 更新後 | J6: （W/台） | L6: （kwh） | N6: （kgCO2/年） | P6: （kgCO2/年）
H7: 型式 | I7: 型式 | J7: 更新前 | K7: 更新後 | L7: 更新前 | M7: 更新後 | N7: 更新前 | O7: 更新後
B8: 1 | G8: =E8*F8 -> 0 | L8: =D8*G8*J8/1000 -> 0 | M8: =D8*G8*K8/1000 -> 0 | N8: =$E$3*L8 -> 0 | O8: =$E$3*M8 -> 0 | P8: =N8-O8 -> 0
B9: 2 | G9: =E9*F9 -> 0 | L9: =D9*G9*J9/1000 -> 0 | M9: =D9*G9*K9/1000 -> 0 | N9: =$E$3*L9 -> 0 | O9: =$E$3*M9 -> 0 | P9: =N9-O9 -> 0
B10: 3 | G10: =E10*F10 -> 0 | L10: =D10*G10*J10/1000 -> 0 | M10: =D10*G10*K10/1000 -> 0 | N10: =$E$3*L10 -> 0 | O10: =$E$3*M10 -> 0 | P10: =N10-O10 -> 0
B11: 4 | G11: =E11*F11 -> 0 | L11: =D11*G11*J11/1000 -> 0 | M11: =D11*G11*K11/1000 -> 0 | N11: =$E$3*L11 -> 0 | O11: =$E$3*M11 -> 0 | P11: =N11-O11 -> 0
B12: 5 | G12: =E12*F12 -> 0 | L12: =D12*G12*J12/1000 -> 0 | M12: =D12*G12*K12/1000 -> 0 | N12: =$E$3*L12 -> 0 | O12: =$E$3*M12 -> 0 | P12: =N12-O12 -> 0
B13: 6 | G13: =E13*F13 -> 0 | L13: =D13*G13*J13/1000 -> 0 | M13: =D13*G13*K13/1000 -> 0 | N13: =$E$3*L13 -> 0 | O13: =$E$3*M13 -> 0 | P13: =N13-O13 -> 0
B14: 7 | G14: =E14*F14 -> 0 | L14: =D14*G14*J14/1000 -> 0 | M14: =D14*G14*K14/1000 -> 0 | N14: =$E$3*L14 -> 0 | O14: =$E$3*M14 -> 0 | P14: =N14-O14 -> 0
B15: 8 | G15: =E15*F15 -> 0 | L15: =D15*G15*J15/1000 -> 0 | M15: =D15*G15*K15/1000 -> 0 | N15: =$E$3*L15 -> 0 | O15: =$E$3*M15 -> 0 | P15: =N15-O15 -> 0
B16: 9 | G16: =E16*F16 -> 0 | L16: =D16*G16*J16/1000 -> 0 | M16: =D16*G16*K16/1000 -> 0 | N16: =$E$3*L16 -> 0 | O16: =$E$3*M16 -> 0 | P16: =N16-O16 -> 0
B17: 10 | G17: =E17*F17 -> 0 | L17: =D17*G17*J17/1000 -> 0 | M17: =D17*G17*K17/1000 -> 0 | N17: =$E$3*L17 -> 0 | O17: =$E$3*M17 -> 0 | P17: =N17-O17 -> 0
B18: 11 | G18: =E18*F18 -> 0 | L18: =D18*G18*J18/1000 -> 0 | M18: =D18*G18*K18/1000 -> 0 | N18: =$E$3*L18 -> 0 | O18: =$E$3*M18 -> 0 | P18: =N18-O18 -> 0
B19: 12 | G19: =E19*F19 -> 0 | L19: =D19*G19*J19/1000 -> 0 | M19: =D19*G19*K19/1000 -> 0 | N19: =$E$3*L19 -> 0 | O19: =$E$3*M19 -> 0 | P19: =N19-O19 -> 0
... B37: 30 | G37: =E37*F37 -> 0 | L37: =D37*G37*J37/1000 -> 0 | M37: =D37*G37*K37/1000 -> 0 | N37: =$E$3*L37 -> 0 | O37: =$E$3*M37 -> 0 | P37: =N37-O37 -> 0
D38: =SUM(D8:D37) -> 0 | J38: =SUM(J8:J37) -> 0 | K38: =SUM(K8:K37) -> 0 | L38: =SUM(L8:L37) -> 0 | M38: =SUM(M8:M37) -> 0 | N38: =SUM(N8:N37) -> 0 | O38: =SUM(O8:O37) -> 0 | P38: =SUM(P8:P37) -> 0
J40: 更新前消費電力量 | L40: 更新後消費電力量 | N40: 削減量 [kWh]
J41: =L38 -> 0 | L41: =M38 -> 0 | N41: =J41-L41 -> 0
J42: CO2排出量（更新前）kgCO2/年 | L42: CO2排出量（更新後） | N42: CO2削減量 | P42: CO2削減率
J43: =N38 -> 0 | L43: =O38 -> 0 | N43: =P38 -> 0 | P43: =N43/J43 -> #DIV/0!
B44: ※照明器具が古く、仕様の確認ができないため、蛍光灯から算出した消費電力で入力。メーカーに確認済み。No.1器具以外はメーカーからの仕様書に消費電力を記入したものを入手済み。

Sheet ランニングコスト計算書
B2: ランニングコスト計算書
B4: 令和2年度（2020年度）の電気使用量を月ごとに下記に入力してください。ただし令和2年度（2020年度）に休業要請に従い休業した等により、
B5: 例年より電気使用量が大きく下がった場合は、令和元年度（2019年度）の値を入力してください。
B6: 電灯と動力がある場合、合算して記入してください。新築の場合は入力不要。増築やスケルトンはご相談ください。年度途中の営業開始等は実績分のみ入力。
B7: 今回提出する電気料金明細等に一致している必要があります
B9: ●年度を選択 | C9: 2020年度
B10: ●電気料金
C11: 4月 | D11: 5月 | E11: 6月 | F11: 7月 | G11: 8月 | H11: 9月 | I11: 10月 | J11: 11月 | K11: 12月 | L11: 1月 | M11: 2月 | N11: 3月 | O11: 計
B12: 電気料金[円] | O12: =IF(ISERROR(12*SUM(C12:N12)/COUNT(C12:N12)),"",12*SUM(C12:N12)/COUNT(C12:N12))
B14: ●電気使用量 | E14: （電力契約単位、またはテナント等で子メーターが設置されている場合はその単位）
C15: 4月 | D15: 5月 | E15: 6月 | F15: 7月 | G15: 8月 | H15: 9月 | I15: 10月 | J15: 11月 | K15: 12月 | L15: 1月 | M15: 2月 | N15: 3月 | O15: 計
B16: 電気使用量[kWh] | O16: =IF(ISERROR(12*SUM(C16:N16)/COUNT(C16:N16)),"",12*SUM(C16:N16)/COUNT(C16:N16))
B19: 電力料金単価： | D19: =IF(O16="","",O12/O16) | E19: 円/kWh | G19: 新築や前年度実績がない場合は類似施設等の値を参考に左欄に直接入力してください
B21: 削減電力使用量 | D21: =IF(省エネ計算!E96="","",省エネ計算!E96) | E21: kWh
B23: 電力削減量×電気料金単価 年間ランニングコスト減少額 | D23: =IF(ISERROR(D21*D19),"",D21*D19) | E23: 円

Sheet 機器仕様入力書
B2: ［換気設備の仕様入力］
B3: 旧設備
C4: 計 | D4: ① | E4: ② | F4: ③ | G4: ④ | H4: ⑤ | I4: ⑥ | J4: ⑦ | K4: ⑧ | L4: ⑨ | M4: ⑩
B5: 換気設備の種類 | C5: プルダウン から選択 | D5: 機械換気（換気扇等） | E5: 機械換気（換気扇等） | F5: 機械換気（換気扇等） | G5: 機械換気（換気扇等） | H5: 機械換気（換気扇等） | I5: 機械換気（換気扇等） | J5: 機械換気（換気扇等） | K5: 機械換気（換気扇等） | L5: 機械換気（換気扇等） | M5: 機械換気（換気扇等）
B6: 型番
B7: 台数 | C7: =IF(SUM(D7:M7)=0,"",SUM(D7:M7))
B8: 換気量[㎥/h] | C8: =IF(SUMPRODUCT(D7:M7,D8:M8)=0,"",SUMPRODUCT(D7:M7,D8:M8))
B9: 消費電力[W] | C9: =IF(SUMPRODUCT(D7:M7,D9:M9)=0,"",SUMPRODUCT(D7:M7,D9:M9))
B10: 熱交換 冷房 効率[%] 暖房 | C10: =IF(ISERROR((SUMPRODUCT(D7:M7,D8:M8,D12:M12)*0.352+SUMPRODUCT(D7:M7,D8:M8,D13:M13)*0.648)/(SUMPRODUCT(D7:M7,D8:M8))),"",(SUMPRODUCT(D7:M7,D8:M8,D12:M12)*0.352+SUMPRODUCT(D7:M7,D8:M8,D13:M13)*0.648)/(SUMPRODUCT(D7:M7,D8:M8)))
D12: =IF((D11="")+(D11=0),D10*0.4,D10) -> 0 | E12: =IF((E11="")+(E11=0),E10*0.4,E10) -> 0 | F12: =IF((F11="")+(F11=0),F10*0.4,F10) -> 0 | G12: =IF((G11="")+(G11=0),G10*0.4,G10) -> 0 | H12: =IF((H11="")+(H11=0),H10*0.4,H10) -> 0 | I12: =IF((I11="")+(I11=0),I10*0.4,I10) -> 0 | J12: =IF((J11="")+(J11=0),J10*0.4,J10) -> 0 | K12: =IF((K11="")+(K11=0),K10*0.4,K10) -> 0 | ... M12: =IF((M11="")+(M11=0),M10*0.4,M10) -> 0
D13: =IF((D11="")+(D11=0),D10*0.4,D11) -> 0 | E13: =IF((E11="")+(E11=0),E10*0.4,E11) -> 0 | F13: =IF((F11="")+(F11=0),F10*0.4,F11) -> 0 | G13: =IF((G11="")+(G11=0),G10*0.4,G11) -> 0 | H13: =IF((H11="")+(H11=0),H10*0.4,H11) -> 0 | I13: =IF((I11="")+(I11=0),I10*0.4,I11) -> 0 | J13: =IF((J11="")+(J11=0),J10*0.4,J11) -> 0 | K13: =IF((K11="")+(K11=0),K10*0.4,K11) -> 0 | ... M13: =IF((M11="")+(M11=0),M10*0.4,M11) -> 0
B14: *熱交換効率はエンタルビ効率を記載して下さい。温度交換効率の場合は回収量が0.4倍になります。
B16: 新設備 | C16: 今回新たに更新・増設等する設備並びに、既存の換気扇を残し継続使用する旧設備の内容を入力してください
C17: 計 | D17: ① | E17: ② | F17: ③ | G17: ④ | H17: ⑤ | I17: ⑥ | J17: ⑦ | K17: ⑧ | L17: ⑨ | M17: ⑩
B18: 換気設備の種類 | C18: 全熱交換器 | D18: 全熱交換器 | E18: 全熱交換器 | F18: 全熱交換器 | G18: 全熱交換器 | H18: 全熱交換器 | I18: 全熱交換器 | J18: 全熱交換器 | K18: 全熱交換器 | L18: 全熱交換器 | M18: 全熱交換器
B19: 更新・増設・新設の区分 | C19: プルダウン から選択 | D19: 更新 | E19: 更新 | F19: 更新 | G19: 更新 | H19: 更新 | I19: 更新 | J19: 更新 | K19: 更新 | L19: 更新 | M19: 更新
B20: 型番
B21: 台数 | C21: =IF(SUM(D21:M21)=0,"",SUM(D21:M21))
B22: 換気量[㎥/h] | C22: =IF(SUMPRODUCT(D21:M21,D22:M22)=0,"",SUMPRODUCT(D21:M21,D22:M22))
B23: 消費電力[W] | C23: =IF(SUMPRODUCT(D21:M21,D23:M23)=0,"",SUMPRODUCT(D21:M21,D23:M23))
B24: 熱交換 冷房 効率[%] 暖房 | C24: =IF(ISERROR((SUMPRODUCT(D21:M21,D22:M22,D26:M26)*0.352+SUMPRODUCT(D21:M21,D22:M22,D27:M27)*0.648)/(SUMPRODUCT(D21:M21,D22:M22))),"",(SUMPRODUCT(D21:M21,D22:M22,D26:M26)*0.352+SUMPRODUCT(D21:M21,D22:M22,D27:M27)*0.648)/(SUMPRODUCT(D21:M21,D22:M22)))
D26: =IF((D25="")+(D25=0),D24*0.4,D24) -> 0 | E26: =IF((E25="")+(E25=0),E24*0.4,E24) -> 0 | F26: =IF((F25="")+(F25=0),F24*0.4,F24) -> 0 | G26: =IF((G25="")+(G25=0),G24*0.4,G24) -> 0 | H26: =IF((H25="")+(H25=0),H24*0.4,H24) -> 0 | I26: =IF((I25="")+(I25=0),I24*0.4,I24) -> 0 | J26: =IF((J25="")+(J25=0),J24*0.4,J24) -> 0 | K26: =IF((K25="")+(K25=0),K24*0.4,K24) -> 0 | ... M26: =IF((M25="")+(M25=0),M24*0.4,M24) -> 0
D27: =IF((D25="")+(D25=0),D24*0.4,D25) -> 0 | E27: =IF((E25="")+(E25=0),E24*0.4,E25) -> 0 | F27: =IF((F25="")+(F25=0),F24*0.4,F25) -> 0 | G27: =IF((G25="")+(G25=0),G24*0.4,G25) -> 0 | H27: =IF((H25="")+(H25=0),H24*0.4,H25) -> 0 | I27: =IF((I25="")+(I25=0),I24*0.4,I25) -> 0 | J27: =IF((J25="")+(J25=0),J24*0.4,J25) -> 0 | K27: =IF((K25="")+(K25=0),K24*0.4,K25) -> 0 | ... M27: =IF((M25="")+(M25=0),M24*0.4,M25) -> 0
B28: *熱交換効率はエンタルビ効率を記載して下さい。温度交換効率の場合は回収量が0.4倍になります。
B30: ［空調設備の仕様入力］
B31: 旧設備
C32: 計 | D32: ① | E32: ② | F32: ③ | G32: ④ | H32: ⑤ | I32: ⑥ | J32: ⑦ | K32: ⑧ | L32: ⑨ | M32: ⑩
B33: 設備の種類 | C33: プルダウン から選択 | D33: ビル用マルチ室外機 | E33: ビル用マルチ室内機
B34: 型番
B35: 台数 | C35: =IF(SUM(D35:M35)=0,"",SUM(D35:M35))
B36: 冷房能力[kW] | C36: =IF(SUMPRODUCT(D35:M35,D36:M36)=0,"",SUMPRODUCT(D35:M35,D36:M36))
B37: 冷房消費電力[kW] | C37: =IF(SUMPRODUCT(D35:M35,D37:M37)=0,"",SUMPRODUCT(D35:M35,D37:M37))
B38: APF | C38: =IF(C40=0,"",C36/C40)
B39: 冷房COP | C39: =IF(ISERROR(C36/C37),"",C36/C37) | D39: =IF(ISERROR(D36/D37),"",D36/D37) | E39: =IF(ISERROR(E36/E37),"",E36/E37) | F39: =IF(ISERROR(F36/F37),"",F36/F37) | G39: =IF(ISERROR(G36/G37),"",G36/G37) | H39: =IF(ISERROR(H36/H37),"",H36/H37) | I39: =IF(ISERROR(I36/I37),"",I36/I37) | J39: =IF(ISERROR(J36/J37),"",J36/J37) | ... M39: =IF(ISERROR(M36/M37),"",M36/M37)
C40: =IF((D40="×")+(E40="×")+(F40="×")+(G40="×")+(H40="×")+(I40="×")+(J40="×")+(K40="×")+(L40="×")+(M40="×")>=1,0,SUM(D40:M40)) -> 0 | D40: =IF(D35="","",IF((D35>0)*(D38>0),D35*D36/D38,"×")) | E40: =IF(E35="","",IF((E35>0)*(E38>0),E35*E36/E38,"×")) | F40: =IF(F35="","",IF((F35>0)*(F38>0),F35*F36/F38,"×")) | G40: =IF(G35="","",IF((G35>0)*(G38>0),G35*G36/G38,"×")) | H40: =IF(H35="","",IF((H35>0)*(H38>0),H35*H36/H38,"×")) | I40: =IF(I35="","",IF((I35>0)*(I38>0),I35*I36/I38,"×")) | J40: =IF(J35="","",IF((J35>0)*(J38>0),J35*J36/J38,"×")) | K40: =IF(K35="","",IF((K35>0)*(K38>0),K35*K36/K38,"×")) | ... M40: =IF(M35="","",IF((M35>0)*(M38>0),M35*M36/M38,"×"))
B42: 新設備 | C42: 今回新たに更新・増設等する設備並びに、既存の空調設備を残し継続使用する旧設備の内容を入力してください
C43: 計 | D43: ① | E43: ② | F43: ③ | G43: ④ | H43: ⑤ | I43: ⑥ | J43: ⑦ | K43: ⑧ | L43: ⑨ | M43: ⑩
B44: 設備の種類 | C44: プルダウン から選択
B45: 型番
B46: 台数 | C46: =IF(SUM(D46:M46)=0,"",SUM(D46:M46))
...
