Workbook

Sheet 省エネ計算
B1: 大規模感染リスクを低減するための高機能換気設備の導入支援事業 | H1: 44291 | J1: ※CO2削減量は補助事業実施年度の翌年度1年間（4月～3月）の1年間の報告義務があります | Q1: 変更履歴
B2: 高機能換気設備 省エネ計算シート | J2: 本シートのCO2削減量は特定のAPF条件で計算した値です | Q2: 44286 | R2: 公開
J3: ※必要事項を入力し、左側の1～3ページまでを印刷して提出してください | Q3: 44287 | R3: ③照明設備による電力削減量の参照を修正
F4: 要入力 | G4: プルダウン | H4: 自動計算 | J4: ※換気、空調設備の入力は必須、照明は計算対象にする場合のみ記入 | Q4: 44288 | R4: 施設全体のCO2削減率の参照を修正。新設時に全熱回収分が算定されない点を修正
B5: 申請者名： | J5: ※本シートを作成するにあたって、下記の資料が必要になります | Q5: 44291 | R5: ２．（１）換気設備入力欄、（２）空調設備入力欄の説明を、「この表に入りきらない場合は、この表を使わず別シート（機器仕様入力書）をご利用下さい」に修正
J6: ・令和2年度または元年度の月別電力使用量及び電気料金（必要に応じガスや燃料） | R6: 102行の省エネ判定で新築時の表示不具合を修正。同じく新築時の削減量合計を算出する計算式を修正
J7: ・旧設備の仕様書（ない場合は銘板写真等） | Q7: 44293 | R7: 機器仕様入力書の | S7: ①列の表示桁数を修正
A8: １．現状電気使用量の入力 | J8: ・新設備の仕様書
B9: （１）電気使用量
C11: 43922 | D11: 5月 | E11: 6月 | F11: 7月 | G11: 8月 | H11: 9月 | J11: 「ランニングコスト計算シート」に電力使用量と電気料金を入力してください
B12: 電気使用量[kWh] | C12: =IF(ランニングコスト計算書!C16="","",ランニングコスト計算書!C16) | D12: =IF(ランニングコスト計算書!D16="","",ランニングコスト計算書!D16) | E12: =IF(ランニングコスト計算書!E16="","",ランニングコスト計算書!E16) | F12: =IF(ランニングコスト計算書!F16="","",ランニングコスト計算書!F16) | G12: =IF(ランニングコスト計算書!G16="","",ランニングコスト計算書!G16) | H12: =IF(ランニングコスト計算書!H16="","",ランニングコスト計算書!H16)
B14: 10月 | C14: 11月 | D14: 12月 | E14: 44197 | F14: 2月 | G14: 3月 | H14: 計
B15: =IF(ランニングコスト計算書!I16="","",ランニングコスト計算書!I16) | C15: =IF(ランニングコスト計算書!J16="","",ランニングコスト計算書!J16) | D15: =IF(ランニングコスト計算書!K16="","",ランニングコスト計算書!K16) | E15: =IF(ランニングコスト計算書!L16="","",ランニングコスト計算書!L16) | F15: =IF(ランニングコスト計算書!M16="","",ランニングコスト計算書!M16) | G15: =IF(ランニングコスト計算書!N16="","",ランニングコスト計算書!N16) | H15: =IF(ランニングコスト計算書!O16="","",ランニングコスト計算書!O16)
G16: CO2排出量（kg） | H16: =IF(H15="","",H15*$F$97) | J16: CO2排出量（kg）
B17: 電力料金単価： | C17: =IF(ランニングコスト計算書!D19="","",ランニングコスト計算書!D19) | D17: 円/kWh
B19: （２）対象となる施設や室に関する情報
B21: ①建物形態 | D21: 事務所 | E21: ※事務所ビル、店舗の区分については、右表から
B22: ②設備規模 | D22: 施設全体 | E22: 建物形態や利用形態が近い方を選択してください。
B23: ③既存改修・新築の区分 | D23: 既存改修
A25: ２．機器仕様の入力
B26: 各設備の仕様書から下記項目を入力してください
B28: （１）換気設備
B29: ①設備仕様の入力 更新前の旧設備と更新後の新設備の仕様を入力してください。 | J29: ※換気量は、ダクト等の損出を考慮した有効換気量を入力してください
B30: この表に入りきらない場合は、この表を使わず別シート（機器仕様入力書）をご利用下さい。
B31: 旧設備 | J31: 更新前の現在稼働している設備について記入してください。設備が一つの場合は②以降は入力不要
C32: ① | D32: ② | E32: ③ | F32: ④ | G32: ⑤ | H32: 計 | J32: 自然換気は入力しないでください
B33: 換気設備の種類 | C33: 機械換気（換気扇等） | D33: 機械換気（換気扇等） | E33: 機械換気（換気扇等） | F33: 機械換気（換気扇等） | G33: 機械換気（換気扇等） | J33: 新築は、旧設備に入力しないでください
B34: 型番 | J34: スケルトンは、旧設備がある場合、その設備仕様を入力してください
B35: 台数 | H35: =IF(機器仕様入力書!C7<>"",機器仕様入力書!C7,IF(SUM(C35:G35)=0,"",SUM(C35:G35))) | J35: 旧換気設備の換気量等が不明な場合は工事会社やメーカー等にお問い合わせください
B36: 換気量[㎥/h] | H36: =IF(機器仕様入力書!C8<>"",機器仕様入力書!C8,IF(SUMPRODUCT(C35:G35,C36:G36)=0,"",SUMPRODUCT(C35:G35,C36:G36))) | J36: 原則として「強」の値
B37: 消費電力[W] | H37: =IF(機器仕様入力書!C9<>"",機器仕様入力書!C9,IF(SUMPRODUCT(C35:G35,C37:G37)=0,"",SUMPRODUCT(C35:G35,C37:G37))) | J37: 原則として「強」の値
B38: 熱交換 冷房 効率[%] 暖房 | H38: =IF(機器仕様入力書!C10<>"",機器仕様入力書!C10,IF(ISERROR((SUMPRODUCT(C35:G35,C36:G36,C40:G40)*0.352+SUMPRODUCT(C35:G35,C36:G36,C41:G41)*0.658)/(SUMPRODUCT(C35:G35,C36:G36))),"",(SUMPRODUCT(C35:G35,C36:G36,C40:G40)*0.352+SUMPRODUCT(C35:G35,C36:G36,C41:G41)*0.658)/(SUMPRODUCT(C35:G35,C36:G36)))) | J38: 全熱交換器の場合は冷房時と暖房時のエンタルピ交換効率を入力。
J39: 顕熱交換器(温度交換率)の場合は冷房時のみに記載して下さい。回収量は0.4倍として計算されます
C40: =IF((C39="")+(C39=0),C38*0.4,C38) -> 0 | D40: =IF((D39="")+(D39=0),D38*0.4,D38) -> 0 | E40: =IF((E39="")+(E39=0),E38*0.4,E38) -> 0 | F40: =IF((F39="")+(F39=0),F38*0.4,F38) -> 0 | G40: =IF((G39="")+(G39=0),G38*0.4,G38) -> 0
C41: =IF((C39="")+(C39=0),C38*0.4,C39) -> 0 | D41: =IF((D39="")+(D39=0),D38*0.4,D39) -> 0 | E41: =IF((E39="")+(E39=0),E38*0.4,E39) -> 0 | F41: =IF((F39="")+(F39=0),F38*0.4,F39) -> 0 | G41: =IF((G39="")+(G39=0),G38*0.4,G39) -> 0
B42: *熱交換効率はエンタルビ効率を記載して下さい。温度交換効率(顕熱交換器)の場合は回収量が0.4倍になります。 | J42: （エンタルピ効率は非熱交換型換気扇（一般の換気扇）の場合は入力不要）
B44: 新設備
C45: ① | D45: ② | E45: ③ | F45: ④ | G45: ⑤ | H45: 計 | J45: 今回新たに更新・追加等する設備並びに、既存の換気扇を残し継続使用する旧設備の内容を入力してください
B46: 換気設備の種類 | C46: 機械換気（換気扇等） | D46: 全熱交換器 | E46: 全熱交換器 | F46: 全熱交換器 | G46: 全熱交換器 | J46: 既存の換気扇を残し、全熱交換器を追加する場合はこの表に旧設備の内容も入力してください
B47: 更新・増設・新設の区分 | C47: 新設 | D47: 更新 | E47: 更新 | F47: 更新 | G47: 更新 | J47: 旧設備を継続使用する場合は「継続」を選択して入力してください
B48: 型番 | J48: 自然換気は入力しないでください
B49: 台数 | H49: =IF(機器仕様入力書!C21<>"",機器仕様入力書!C21,IF(SUM(C49:G49)=0,"",SUM(C49:G49)))
B50: 換気量[㎥/h] | H50: =IF(機器仕様入力書!C22<>"",機器仕様入力書!C22,IF(SUMPRODUCT(C49:G49,C50:G50)=0,"",SUMPRODUCT(C49:G49,C50:G50))) | J50: 原則として「強」の値
B51: 消費電力[W] | H51: =IF(機器仕様入力書!C23<>"",機器仕様入力書!C23,IF(SUMPRODUCT(C49:G49,C51:G51)=0,"",SUMPRODUCT(C49:G49,C51:G51))) | J51: 原則として「強」の値。単位に注意（kWでなくW）
B52: 熱交換 冷房 効率[%] 暖房 | H52: =IF(機器仕様入力書!C24<>"",機器仕様入力書!C24,IF(ISERROR((SUMPRODUCT(C49:G49,C50:G50,C54:G54)*0.352+SUMPRODUCT(C49:G49,C50:G50,C55:G55)*0.658)/(SUMPRODUCT(C49:G49,C50:G50))),"",(SUMPRODUCT(C49:G49,C50:G50,C54:G54)*0.352+SUMPRODUCT(C49:G49,C50:G50,C55:G55)*0.658)/(SUMPRODUCT(C49:G49,C50:G50)))) | J52: 全熱交換器の場合は冷房時と暖房時のエンタルピ交換効率を入力。
J53: 顕熱交換器(温度交換率)の場合は冷房時のみに記載して下さい。回収量は0.4倍として計算されます
C54: =IF((C53="")+(C53=0),C52*0.4,C52) -> 0 | D54: =IF((D53="")+(D53=0),D52*0.4,D52) -> 0 | E54: =IF((E53="")+(E53=0),E52*0.4,E52) -> 0 | F54: =IF((F53="")+(F53=0),F52*0.4,F52) -> 0 | G54: =IF((G53="")+(G53=0),G52*0.4,G52) -> 0
C55: =IF((C53="")+(C53=0),C52*0.4,C53) -> 0 | D55: =IF((D53="")+(D53=0),D52*0.4,D53) -> 0 | E55: =IF((E53="")+(E53=0),E52*0.4,E53) -> 0 | F55: =IF((F53="")+(F53=0),F52*0.4,F53) -> 0 | G55: =IF((G53="")+(G53=0),G52*0.4,G53) -> 0
B56: *熱交換効率はエンタルビ効率を記載して下さい。
B58: （２）空調設備 | D58: ※入力必須
B59: ①補助対象の有無（今回の申請で空調設備改修を行いますか？） | G59: いいえ
B60: ②設備仕様の入力 | J60: 空調設備改修を行わない場合も、現在使用空調設備を新旧設備欄に同じ内容で記入して下さい
B61: この表に入りきらない場合は、この表を使わず別シート（機器仕様入力書）をご利用下さい。 | J61: 新築の場合、旧設備と新設備は同じ内容を入力してください
D62: ① | E62: ② | F62: ③ | G62: ④ | H62: 計 | J62: 継続する旧設備は新設備に同じ内容を記入して下さい
B63: 旧設備 | C63: 設備の種類 | J63: ビル用マルチエアコンは室外機と室内機の両方を入力し、室内機の冷房能力欄は空白にして下さい
C64: 型番
C65: 台数 | H65: =IF(機器仕様入力書!C35<>"",機器仕様入力書!C35,IF(SUM(C65:G65)=0,"",SUM(C65:G65)))
C66: 冷房能力[kW] | H66: =IF(機器仕様入力書!C36<>"",機器仕様入力書!C36,IF(SUMPRODUCT(D65:G65,D66:G66)=0,"",SUMPRODUCT(D65:G65,D66:G66)))
C67: 冷房消費電力[kW] | H67: =IF(機器仕様入力書!C37<>"",機器仕様入力書!C37,IF(SUMPRODUCT(D65:G65,D67:G67)=0,"",SUMPRODUCT(D65:G65,D67:G67)))
C68: APF | H68: =IF(機器仕様入力書!C35<>"",機器仕様入力書!C38,IF(H70=0,"",H66/H70)) | J68: 新旧全ての機種にAPFがない場合は冷房COPの総合値で計算します
C69: 冷房COP | D69: =IF(ISERROR(D66/D67),"",D66/D67) | E69: =IF(ISERROR(E66/E67),"",E66/E67) | F69: =IF(ISERROR(F66/F67),"",F66/F67) | G69: =IF(ISERROR(G66/G67),"",G66/G67) | H69: =IF(機器仕様入力書!C39<>"",機器仕様入力書!C39,IF(ISERROR(H66/H67),"",H66/H67))
D70: =IF(D65="","",IF((D65>0)*(D68>0),D65*D66/D68,"×")) | E70: =IF(E65="","",IF((E65>0)*(E68>0),E65*E66/E68,"×")) | F70: =IF(F65="","",IF((F65>0)*(F68>0),F65*F66/F68,"×")) | G70: =IF(G65="","",IF((G65>0)*(G68>0),G65*G66/G68,"×")) | H70: =IF(機器仕様入力書!C40<>0,機器仕様入力書!C40,IF((D70="×")+(E70="×")+(F70="×")+(G70="×")>=1,0,SUM(D70:G70))) -> 0
B71: 新設備 | C71: 設備の種類
C72: 型番
C73: 台数 | H73: =IF(機器仕様入力書!C46<>"",機器仕様入力書!C46,IF(SUM(C73:G73)=0,"",SUM(C73:G73)))
C74: 冷房能力[kW] | H74: =IF(機器仕様入力書!C47<>"",機器仕様入力書!C47,IF(SUMPRODUCT(D73:G73,D74:G74)=0,"",SUMPRODUCT(D73:G73,D74:G74)))
C75: 冷房消費電力[kW] | H75: =IF(機器仕様入力書!C48<>"",機器仕様入力書!C48,IF(SUMPRODUCT(D73:G73,D75:G75)=0,"",SUMPRODUCT(D73:G73,D75:G75)))
C76: APF | H76: =IF(機器仕様入力書!C46<>"",機器仕様入力書!C49,IF(H78=0,"",H74/H78))
C77: 冷房COP | D77: =IF(ISERROR(D74/D75),"",D74/D75) | E77: =IF(ISERROR(E74/E75),"",E74/E75) | F77: =IF(ISERROR(F74/F75),"",F74/F75) | G77: =IF(ISERROR(G74/G75),"",G74/G75) | H77: =IF(機器仕様入力書!C50<>"",機器仕様入力書!C50,IF(ISERROR(H74/H75),"",H74/H75))
D78: =IF(D73="","",IF((D73>0)*(D76>0),D73*D74/D76,"×")) | E78: =IF(E73="","",IF((E73>0)*(E76>0),E73*E74/E76,"×")) | F78: =IF(F73="","",IF((F73>0)*(F76>0),F73*F74/F76,"×")) | G78: =IF(G73="","",IF((G73>0)*(G76>0),G73*G74/G76,"×")) | H78: =IF(機器仕様入力書!C51<>0,機器仕様入力書!C51,IF((H70=0)+(D78="×")+(E78="×")+(F78="×")+(G78="×")>0,0,SUM(D78:G78))) -> 0
B81: （３）照明設備 | J81: 新築の場合は更新前と更新後に同じ内容を入力してください
B82: ①計算対象の有無（今回の申請で照明設備改修を行いますか？） | G82: いいえ
B84: ②設備仕様の入力 | D84: 本Excel内の「照明シート」を利用し各自作成してください。
J86: (1)全熱交換器の熱回収量の計算 | N86: (2)空調設備によるエネルギー削減量
A87: ３．省エネ計算結果 | B87: （１）エネルギー・CO2削減量 | P87: kWh
J88: ※APF条件（東京、室内夏27度冬20度、湿度50％、過去10年間の温湿度より） | N88: kW比 | O88: 店舗 | P88: 事務所 | R88: X従来空調負荷
C89: 下表の合計欄、②の空調改善分、③照明設備がマイナスの場合、申請できません。 | J89: ●全熱交換器の熱回収量 | N89: 冷房時年間負荷 | O89: 682.7 | P89: 771.5 | R89: a旧換気量計 | S89: =IF(H36="",H50,H36) | T89: X=a-b
J90: 空気1kgあたりの熱量kJ | L90: [kJ/kg] | N90: 暖房時年間負荷 | O90: 593.7 | P90: 161.6 | R90: b換気量*熱交換効率 | S90: =IF(ISERROR(H36*H38),0,H36*H38) -> 0 | T90: =IF(ISERROR(S89-S90),0,S89-S90) -> 0
E91: 電力削減量[kWh] | F91: CO2削減量[tCO2/年] | G91: 施設全体のCO2削減率 | K91: 店舗 | L91: 事務所 | N91: 計（1kW比） | O91: =O89+O90 -> 1276.4 | P91: =P89+P90 -> 933.1 | R91: Y新設空調負荷
B92: ①換気設備改修による電力削減量（旧―新） | E92: =IF(IF(D21="店舗",L111,L112)=0,"",IF(D21="店舗",L111,L112)) | F92: =IF(ISERROR(ROUNDDOWN(E92*$F$97/1000,4)),"",ROUNDDOWN(E92*$F$97/1000,4)) | J92: 冷房時総熱損失量 | K92: 18049.848 | L92: 14529.909 | R92: c新換気量計 | S92: =H50 | T92: y=c-d
B93: ②空調設備による エネルギー削減量 | D93: 全熱回収分 | E93: =IF(IF($D$21="店舗",S96,T96)=0,"",IF($D$21="店舗",S96,T96)) | F93: =IF(ISERROR(ROUNDDOWN(E93*$F$97/1000,4)),"",ROUNDDOWN(E93*$F$97/1000,4)) | J93: 暖房時総熱損失量 | K93: 33151 | L93: 20189.1 | R93: d新換気量*熱交換効率 | S93: =IF(ISERROR(H50*H52),"",H50*H52) | T93: =IF(ISERROR(S92-S93),"",S92-S93)
D94: 空調改善分 | E94: =IF(IF(D$21="店舗",O99,O100)=0,"",IF(D$21="店舗",O99,O100)) | F94: =IF(ISERROR(ROUNDDOWN(E94*$F$97/1000,4)),"",ROUNDDOWN(E94*$F$97/1000,4)) | J94: 計 | K94: =K93+K92 -> 51200.848 | L94: =L93+L92 -> 34719.009 | N94: 改修後空調冷房能力 | P94: =H74 | R94: 省エネ空気量X-Y | S94: =IF(ISERROR(T90-T93),"",T90-T93) | U94: 換気設備の電力消費量を加味
B95: ③照明設備によるエネルギー削減量 | E95: =IF(照明シート!N41=0,"",照明シート!N41) | F95: =IF(ISERROR(ROUNDDOWN(E95*$F$97/1000,4)),"",ROUNDDOWN(E95*$F$97/1000,4)) | N95: 改修前空調APF又はCOP | P95: =IF((H68<>"")*(H76<>""),H68,H69) | R95: 省エネ量 | S95: 店舗 | T95: 事務所 | U95: 店舗 | V95: 事務所
B96: 合計 | E96: =IF(SUM(E92:E95)=0,"",SUM(E92:E95)) | F96: =IF(SUM(F92:F95)=0,"",SUM(F92:F95)) | G96: =IF(ISERROR(F96/H16)=TRUE,"",1000*F96/H16) | N96: 改修後空調APF又はCOP | P96: =IF((H68<>"")*(H76<>""),H76,H77) | S96: =IF(ISERROR(S94*L97*K94/3600/(H74/H75))=TRUE,0,(S94*L97*K94/3600/(H74/H75))) -> 0 | T96: =IF(ISERROR(S94*L97*L94/3600/(H74/H75))=TRUE,0,(S94*L97*L94/3600/(H74/H75))) -> 0 | U96: =IF(S96=0,0,S96+L111) -> 0 | V96: =IF(T96=0,0,T96+L112) -> 0
E97: kgCO2/kWh | F97: 0.579 | J97: 空気密度[kg/㎥] | L97: 1.2
N98: 空調改修によるエネルギー削減量=
J99: ①店舗の場合の熱回収量[kWh] | L99: =IF(ISERROR($K$94*$L$97*H50*H52/3600),0,$K$94*$L$97*H50*H52/3600) -> 0 | N99: 店舗 | O99: =IF(ISERROR(P94*O91*(1/P95-1/P96))=TRUE,0,P94*O91*(1/P95-1/P96)) -> 0
E100: CO2削減量 | F100: =F96 | G100: tCO2/年 | J100: ②事務所の場合の熱回収量[kWh] | L100: =IF(ISERROR($L$94*$L$97*H50*H52/3600),0,$L$94*$L$97*H50*H52/3600) -> 0 | N100: 事務所 | O100: =IF(ISERROR(P94*P91*(1/P95-1/P96))=TRUE,0,P94*P91*(1/P95-1/P96)) -> 0
B102: =IF(F96="","",IF(((G96<0.03)+(F94<0)+(F95<0)+(G96="")*(F96<0)),"省エネの要件を満たさないため、申請できません","省エネの要件を満たしています")) | J102: ●全熱交換器の消費電力量
K103: 稼働時間 | L103: 年間稼働時間 | N103: (3)照明設備によるエネルギー削減量
J104: 店舗 | K104: 13 | L104: =K104*365 -> 4745
J105: 事務所 | K105: 12 | L105: =K105*365 -> 4380 | N105: 照明シートより結果をコピー
N106: 削減消費電力量 | O106: =照明シート!N41 -> 0
J107: 全熱交換器の消費電力量[kWh] | K107: 店舗 | L107: =IF(ISERROR(L104*H51/1000),0,L104*H51/1000) -> 0
K108: 事務所 | L108: =IF(ISERROR(L105*H51/1000),0,L105*H51/1000) -> 0
J109: 旧換気設備の消費電力量[kWh] | K109: 店舗 | L109: =IF(ISERROR(IF((H35="")*((C47="新設")+(機器仕様入力書!D19="新設"))=0,IF(ISERROR(L104*H37/1000),0,L104*H37/1000),L104*H50*0.11/1000)),0,IF((H35="")*((C47="新設")+(機器仕様入力書!D19="新設"))=0,IF(ISERROR(L104*H37/1000),0,L104*H37/1000),L104*H50*0.11/1000)) -> 0 | M109: *新設の場合は同風量の機械換気があったと見なし、換気量の0.11倍を消費電力とします
K110: 事務所 | L110: =IF(ISERROR(IF((H35="")*((C47="新設")+(機器仕様入力書!D19="新設"))=0,IF(ISERROR(L105*H37/1000),0,L105*H37/1000),L105*H50*0.11/1000)),0,IF((H35="")*((C47="新設")+(機器仕様入力書!D19="新設"))=0,IF(ISERROR(L105*H37/1000),0,L105*H37/1000),L105*H50*0.11/1000)) -> 0
J111: 改修による電力削減量（旧ー新） | K111: ③店舗 | L111: =L109-L107 -> 0
K112: ④事務所 | L112: =L110-L108 -> 0
J113: 全熱による熱回収量+改修による電力削減量 | K113: 店舗①+③ | L113: =L99+L111 -> 0
...

Sheet 照明シート
A1: 照明改修の省エネ（CO2削減量）計算シート
H2: ※照明を計算対象にする場合、本シートをご利用ください
B3: 電力のCO2排出係数 | E3: 0.579 | F3: kgCO2/kWh | H3: ※足りない場合は行を挿入してください。新築の場合は更新前と更新後に同じ内容を入力してください
B5: N0 | C5: 場所 | D5: 器具台数 (台) | E5: 1日の 点灯時間 （ｈ/日） | F5: 年間 点灯日数 （日） | G5: 年間 点灯時間 （ｈ） | H5: 照明器具仕様 | J5: 機器消費電力 | L5: 機器消費電力量 | N5: CO2排出量 | P5: CO2削減量
H6: 更新前 | I6: 更新後 | J6: （W/台） | L6: （kwh） | N6: （kgCO2/年） | P6: （kgCO2/年）
H7: 型式 | I7: 型式 | J7: 更新前 | K7: 更新後 | L7: 更新前 | M7: 更新後 | N7: 更新前 | O7: 更新後
B8: 1 | G8: =E8*F8 -> 0 | L8: =D8*G8*J8/1000 -> 0 | M8: =D8*G8*K8/1000 -> 0 | N8: =$E$3*L8 -> 0 | O8: =$E$3*M8 -> 0 | P8: =N8-O8 -> 0
B9: 2 | G9: =E9*F9 -> 0 | L9: =D9*G9*J9/1000 -> 0 | M9: =D9*G9*K9/1000 -> 0 | N9: =$E$3*L9 -> 0 | O9: =$E$3*M9 -> 0 | P9: =N9-O9 -> 0
B10: 3 | G10: =E10*F10 -> 0 | L10: =D10*G10*J10/1000 -> 0 | M10: =D10*G10*K10/1000 -> 0 | N10: =$E$3*L10 -> 0 | O10: =$E$3*M10 -> 0 | P10: =N10-O10 -> 0
B11: 4 | G11: =E11*F11 -> 0 | L11: =D11*G11*J11/1000 -> 0 | M11: =D11*G11*K11/1000 -> 0 | N11: =$E$3*L11 -> 0 | O11: =$E$3*M11 -> 0 | P11: =N11-O11 -> 0
B12: 5 | G12: =E12*F12 -> 0 | L12: =D12*G12*J12/1000 -> 0 | M12: =D12*G12*K12/1000 -> 0 | N12: =$E$3*L12 -> 0 | O12: =$E$3*M12 -> 0 | P12: =N12-O12 -> 0
B13: 6 | G13: =E13*F13 -> 0 | L13: =D13*G13*J13/1000 -> 0 | M13: =D13*G13*K13/1000 -> 0 | N13: =$E$3*L13 -> 0 | O13: =$E$3*M13 -> 0 | P13: =N13-O13 -> 0
B14: 7 | G14: =E14*F14 -> 0 | L14: =D14*G14*J14/1000 -> 0 | M14: =D14*G14*K14/1000 -> 0 | N14: =$E$3*L14 -> 0 | O14: =$E$3*M14 -> 0 | P14: =N14-O14 -> 0
B15: 8 | G15: =E15*F15 -> 0 | L15: =D15*G15*J15/1000 -> 0 | M15: =D15*G15*K15/1000 -> 0 | N15: =$E$3*L15 -> 0 | O15: =$E$3*M15 -> 0 | P15: =N15-O15 -> 0
B16: 9 | G16: =E16*F16 -> 0 | L16: =D16*G16*J16/1000 -> 0 | M16: =D16*G16*K16/1000 -> 0 | N16: =$E$3*L16 -> 0 | O16: =$E$3*M16 -> 0 | P16: =N16-O16 -> 0
B17: 10 | G17: =E17*F17 -> 0 | L17: =D17*G17*J17/1000 -> 0 | M17: =D17*G17*K17/1000 -> 0 | N17: =$E$3*L17 -> 0 | O17: =$E$3*M17 -> 0 | P17: =N17-O17 -> 0
B18: 11 | G18: =E18*F18 -> 0 | L18: =D18*G18*J18/1000 -> 0 | M18: =D18*G18*K18/1000 -> 0 | N18: =$E$3*L18 -> 0 | O18: =$E$3*M18 -> 0 | P18: =N18-O18 -> 0
B19: 12 | G19: =E19*F19 -> 0 | L19: =D19*G19*J19/1000 -> 0 | M19: =D19*G19*K19/1000 -> 0 | N19: =$E$3*L19 -> 0 | O19: =$E$3*M19 -> 0 | P19: =N19-O19 -> 0
... B37: 30 | G37: =E37*F37 -> 0 | L37: =D37*G37*J37/1000 -> 0 | M37: =D37*G37*K37/1000 -> 0 | N37: =$E$3*L37 -> 0 | O37: =$E$3*M37 -> 0 | P37: =N37-O37 -> 0
D38: =SUM(D8:D37) -> 0 | J38: =SUM(J8:J37) -> 0 | K38: =SUM(K8:K37) -> 0 | L38: =SUM(L8:L37) -> 0 | M38: =SUM(M8:M37) -> 0 | N38: =SUM(N8:N37) -> 0 | O38: =SUM(O8:O37) -> 0 | P38: =SUM(P8:P37) -> 0
J40: 更新前消費電力量 | L40: 更新後消費電力量 | N40: 削減量 [kWh]
J41: =L38 -> 0 | L41: =M38 -> 0 | N41: =J41-L41 -> 0
J42: CO2排出量（更新前）kgCO2/年 | L42: CO2排出量（更新後） | N42: CO2削減量 | P42: CO2削減率
J43: =N38 -> 0 | L43: =O38 -> 0 | N43: =P38 -> 0 | P43: =N43/J43 -> #DIV/0!
B44: ※照明器具が古く、仕様の確認ができないため、蛍光灯から算出した消費電力で入力。メーカーに確認済み。No.1器具以外はメーカーからの仕様書に消費電力を記入したものを入手済み。

Sheet ランニングコスト計算書
B2: ランニングコスト計算書
B4: 令和2年度（2020年度）の電気使用量を月ごとに下記に入力してください。ただし令和2年度（2020年度）に休業要請に従い休業した等により、
B5: 例年より電気使用量が大きく下がった場合は、令和元年度（2019年度）の値を入力してください。
B6: 電灯と動力がある場合、合算して記入してください。新築の場合は入力不要。増築やスケルトンはご相談ください。年度途中の営業開始等は実績分のみ入力。
B7: 今回提出する電気料金明細等に一致している必要があります
B9: ●年度を選択 | C9: 2020年度
B10: ●電気料金
C11: 4月 | D11: 5月 | E11: 6月 | F11: 7月 | G11: 8月 | H11: 9月 | I11: 10月 | J11: 11月 | K11: 12月 | L11: 1月 | M11: 2月 | N11: 3月 | O11: 計
B12: 電気料金[円] | O12: =IF(ISERROR(12*SUM(C12:N12)/COUNT(C12:N12)),"",12*SUM(C12:N12)/COUNT(C12:N12))
B14: ●電気使用量 | E14: （電力契約単位、またはテナント等で子メーターが設置されている場合はその単位）
C15: 4月 | D15: 5月 | E15: 6月 | F15: 7月 | G15: 8月 | H15: 9月 | I15: 10月 | J15: 11月 | K15: 12月 | L15: 1月 | M15: 2月 | N15: 3月 | O15: 計
B16: 電気使用量[kWh] | O16: =IF(ISERROR(12*SUM(C16:N16)/COUNT(C16:N16)),"",12*SUM(C16:N16)/COUNT(C16:N16))
B19: 電力料金単価： | D19: =IF(O16="","",O12/O16) | E19: 円/kWh | G19: 新築や前年度実績がない場合は類似施設等の値を参考に左欄に直接入力してください
B21: 削減電力使用量 | D21: =IF(省エネ計算!E96="","",省エネ計算!E96) | E21: kWh
B23: 電力削減量×電気料金単価 年間ランニングコスト減少額 | D23: =IF(ISERROR(D21*D19),"",D21*D19) | E23: 円

Sheet 機器仕様入力書
B2: ［換気設備の仕様入力］
B3: 旧設備
C4: 計 | D4: ① | E4: ② | F4: ③ | G4: ④ | H4: ⑤ | I4: ⑥ | J4: ⑦ | K4: ⑧ | L4: ⑨ | M4: ⑩
B5: 換気設備の種類 | C5: プルダウン から選択 | D5: 機械換気（換気扇等） | E5: 機械換気（換気扇等） | F5: 機械換気（換気扇等） | G5: 機械換気（換気扇等） | H5: 機械換気（換気扇等） | I5: 機械換気（換気扇等） | J5: 機械換気（換気扇等） | K5: 機械換気（換気扇等） | L5: 機械換気（換気扇等） | M5: 機械換気（換気扇等）
B6: 型番
B7: 台数 | C7: =IF(SUM(D7:M7)=0,"",SUM(D7:M7))
B8: 換気量[㎥/h] | C8: =IF(SUMPRODUCT(D7:M7,D8:M8)=0,"",SUMPRODUCT(D7:M7,D8:M8))
B9: 消費電力[W] | C9: =IF(SUMPRODUCT(D7:M7,D9:M9)=0,"",SUMPRODUCT(D7:M7,D9:M9))
B10: 熱交換 冷房 効率[%] 暖房 | C10: =IF(ISERROR((SUMPRODUCT(D7:M7,D8:M8,D12:M12)*0.352+SUMPRODUCT(D7:M7,D8:M8,D13:M13)*0.648)/(SUMPRODUCT(D7:M7,D8:M8))),"",(SUMPRODUCT(D7:M7,D8:M8,D12:M12)*0.352+SUMPRODUCT(D7:M7,D8:M8,D13:M13)*0.648)/(SUMPRODUCT(D7:M7,D8:M8)))
D12: =IF((D11="")+(D11=0),D10*0.4,D10) -> 0 | E12: =IF((E11="")+(E11=0),E10*0.4,E10) -> 0 | F12: =IF((F11="")+(F11=0),F10*0.4,F10) -> 0 | G12: =IF((G11="")+(G11=0),G10*0.4,G10) -> 0 | H12: =IF((H11="")+(H11=0),H10*0.4,H10) -> 0 | I12: =IF((I11="")+(I11=0),I10*0.4,I10) -> 0 | J12: =IF((J11="")+(J11=0),J10*0.4,J10) -> 0 | K12: =IF((K11="")+(K11=0),K10*0.4,K10) -> 0 | ... M12: =IF((M11="")+(M11=0),M10*0.4,M10) -> 0
D13: =IF((D11="")+(D11=0),D10*0.4,D11) -> 0 | E13: =IF((E11="")+(E11=0),E10*0.4,E11) -> 0 | F13: =IF((F11="")+(F11=0),F10*0.4,F11) -> 0 | G13: =IF((G11="")+(G11=0),G10*0.4,G11) -> 0 | H13: =IF((H11="")+(H11=0),H10*0.4,H11) -> 0 | I13: =IF((I11="")+(I11=0),I10*0.4,I11) -> 0 | J13: =IF((J11="")+(J11=0),J10*0.4,J11) -> 0 | K13: =IF((K11="")+(K11=0),K10*0.4,K11) -> 0 | ... M13: =IF((M11="")+(M11=0),M10*0.4,M11) -> 0
B14: *熱交換効率はエンタルビ効率を記載して下さい。温度交換効率の場合は回収量が0.4倍になります。
B16: 新設備 | C16: 今回新たに更新・増設等する設備並びに、既存の換気扇を残し継続使用する旧設備の内容を入力してください
C17: 計 | D17: ① | E17: ② | F17: ③ | G17: ④ | H17: ⑤ | I17: ⑥ | J17: ⑦ | K17: ⑧ | L17: ⑨ | M17: ⑩
B18: 換気設備の種類 | C18: 全熱交換器 | D18: 全熱交換器 | E18: 全熱交換器 | F18: 全熱交換器 | G18: 全熱交換器 | H18: 全熱交換器 | I18: 全熱交換器 | J18: 全熱交換器 | K18: 全熱交換器 | L18: 全熱交換器 | M18: 全熱交換器
B19: 更新・増設・新設の区分 | C19: プルダウン から選択 | D19: 更新 | E19: 更新 | F19: 更新 | G19: 更新 | H19: 更新 | I19: 更新 | J19: 更新 | K19: 更新 | L19: 更新 | M19: 更新
B20: 型番
B21: 台数 | C21: =IF(SUM(D21:M21)=0,"",SUM(D21:M21))
B22: 換気量[㎥/h] | C22: =IF(SUMPRODUCT(D21:M21,D22:M22)=0,"",SUMPRODUCT(D21:M21,D22:M22))
B23: 消費電力[W] | C23: =IF(SUMPRODUCT(D21:M21,D23:M23)=0,"",SUMPRODUCT(D21:M21,D23:M23))
B24: 熱交換 冷房 効率[%] 暖房 | C24: =IF(ISERROR((SUMPRODUCT(D21:M21,D22:M22,D26:M26)*0.352+SUMPRODUCT(D21:M21,D22:M22,D27:M27)*0.648)/(SUMPRODUCT(D21:M21,D22:M22))),"",(SUMPRODUCT(D21:M21,D22:M22,D26:M26)*0.352+SUMPRODUCT(D21:M21,D22:M22,D27:M27)*0.648)/(SUMPRODUCT(D21:M21,D22:M22)))
D26: =IF((D25="")+(D25=0),D24*0.4,D24) -> 0 | E26: =IF((E25="")+(E25=0),E24*0.4,E24) -> 0 | F26: =IF((F25="")+(F25=0),F24*0.4,F24) -> 0 | G26: =IF((G25="")+(G25=0),G24*0.4,G24) -> 0 | H26: =IF((H25="")+(H25=0),H24*0.4,H24) -> 0 | I26: =IF((I25="")+(I25=0),I24*0.4,I24) -> 0 | J26: =IF((J25="")+(J25=0),J24*0.4,J24) -> 0 | K26: =IF((K25="")+(K25=0),K24*0.4,K24) -> 0 | ... M26: =IF((M25="")+(M25=0),M24*0.4,M24) -> 0
D27: =IF((D25="")+(D25=0),D24*0.4,D25) -> 0 | E27: =IF((E25="")+(E25=0),E24*0.4,E25) -> 0 | F27: =IF((F25="")+(F25=0),F24*0.4,F25) -> 0 | G27: =IF((G25="")+(G25=0),G24*0.4,G25) -> 0 | H27: =IF((H25="")+(H25=0),H24*0.4,H25) -> 0 | I27: =IF((I25="")+(I25=0),I24*0.4,I25) -> 0 | J27: =IF((J25="")+(J25=0),J24*0.4,J25) -> 0 | K27: =IF((K25="")+(K25=0),K24*0.4,K25) -> 0 | ... M27: =IF((M25="")+(M25=0),M24*0.4,M25) -> 0
B28: *熱交換効率はエンタルビ効率を記載して下さい。温度交換効率の場合は回収量が0.4倍になります。
B30: ［空調設備の仕様入力］
B31: 旧設備
C32: 計 | D32: ① | E32: ② | F32: ③ | G32: ④ | H32: ⑤ | I32: ⑥ | J32: ⑦ | K32: ⑧ | L32: ⑨ | M32: ⑩
B33: 設備の種類 | C33: プルダウン から選択 | D33: ビル用マルチ室外機 | E33: ビル用マルチ室内機
B34: 型番
B35: 台数 | C35: =IF(SUM(D35:M35)=0,"",SUM(D35:M35))
B36: 冷房能力[kW] | C36: =IF(SUMPRODUCT(D35:M35,D36:M36)=0,"",SUMPRODUCT(D35:M35,D36:M36))
B37: 冷房消費電力[kW] | C37: =IF(SUMPRODUCT(D35:M35,D37:M37)=0,"",SUMPRODUCT(D35:M35,D37:M37))
B38: APF | C38: =IF(C40=0,"",C36/C40)
B39: 冷房COP | C39: =IF(ISERROR(C36/C37),"",C36/C37) | D39: =IF(ISERROR(D36/D37),"",D36/D37) | E39: =IF(ISERROR(E36/E37),"",E36/E37) | F39: =IF(ISERROR(F36/F37),"",F36/F37) | G39: =IF(ISERROR(G36/G37),"",G36/G37) | H39: =IF(ISERROR(H36/H37),"",H36/H37) | I39: =IF(ISERROR(I36/I37),"",I36/I37) | J39: =IF(ISERROR(J36/J37),"",J36/J37) | ... M39: =IF(ISERROR(M36/M37),"",M36/M37)
C40: =IF((D40="×")+(E40="×")+(F40="×")+(G40="×")+(H40="×")+(I40="×")+(J40="×")+(K40="×")+(L40="×")+(M40="×")>=1,0,SUM(D40:M40)) -> 0 | D40: =IF(D35="","",IF((D35>0)*(D38>0),D35*D36/D38,"×")) | E40: =IF(E35="","",IF((E35>0)*(E38>0),E35*E36/E38,"×")) | F40: =IF(F35="","",IF((F35>0)*(F38>0),F35*F36/F38,"×")) | G40: =IF(G35="","",IF((G35>0)*(G38>0),G35*G36/G38,"×")) | H40: =IF(H35="","",IF((H35>0)*(H38>0),H35*H36/H38,"×")) | I40: =IF(I35="","",IF((I35>0)*(I38>0),I35*I36/I38,"×")) | J40: =IF(J35="","",IF((J35>0)*(J38>0),J35*J36/J38,"×")) | K40: =IF(K35="","",IF((K35>0)*(K38>0),K35*K36/K38,"×")) | ... M40: =IF(M35="","",IF((M35>0)*(M38>0),M35*M36/M38,"×"))
B42: 新設備 | C42: 今回新たに更新・増設等する設備並びに、既存の空調設備を残し継続使用する旧設備の内容を入力してください
C43: 計 | D43: ① | E43: ② | F43: ③ | G43: ④ | H43: ⑤ | I43: ⑥ | J43: ⑦ | K43: ⑧ | L43: ⑨ | M43: ⑩
B44: 設備の種類 | C44: プルダウン から選択
B45: 型番
B46: 台数 | C46: =IF(SUM(D46:M46)=0,"",SUM(D46:M46))
B47: 冷房能力[kW] | C47: =IF(SUMPRODUCT(D46:M46,D47:M47)=0,"",SUMPRODUCT(D46:M46,D47:M47))
B48: 冷房消費電力[kW] | C48: =IF(SUMPRODUCT(D46:M46,D48:M48)=0,"",SUMPRODUCT(D46:M46,D48:M48))
B49: APF | C49: =IF(C51=0,"",C47/C51)
B50: 冷房COP | C50: =IF(ISERROR(C47/C48),"",C47/C48) | D50: =IF(ISERROR(D47/D48),"",D47/D48) | E50: =IF(ISERROR(E47/E48),"",E47/E48) | F50: =IF(ISERROR(F47/F48),"",F47/F48) | G50: =IF(ISERROR(G47/G48),"",G47/G48) | H50: =IF(ISERROR(H47/H48),"",H47/H48) | I50: =IF(ISERROR(I47/I48),"",I47/I48) | J50: =IF(ISERROR(J47/J48),"",J47/J48) | ... M50: =IF(ISERROR(M47/M48),"",M47/M48)
C51: =IF((D51="×")+(E51="×")+(F51="×")+(G51="×")+(H51="×")+(I51="×")+(J51="×")+(K51="×")+(L51="×")+(M51="×")>=1,0,SUM(D51:M51)) -> 0 | D51: =IF(D46="","",IF((D46>0)*(D49>0),D46*D47/D49,"×")) | E51: =IF(E46="","",IF((E46>0)*(E49>0),E46*E47/E49,"×")) | F51: =IF(F46="","",IF((F46>0)*(F49>0),F46*F47/F49,"×")) | G51: =IF(G46="","",IF((G46>0)*(G49>0),G46*G47/G49,"×")) | H51: =IF(H46="","",IF((H46>0)*(H49>0),H46*H47/H49,"×")) | I51: =IF(I46="","",IF((I46>0)*(I49>0),I46*I47/I49,"×")) | J51: =IF(J46="","",IF((J46>0)*(J49>0),J46*J47/J49,"×")) | K51: =IF(K46="","",IF((K46>0)*(K49>0),K46*K47/K49,"×")) | ... M51: =IF(M46="","",IF((M46>0)*(M49>0),M46*M47/M49,"×"))
